BEGIN:VCALENDAR
VERSION:2.0
PRODID:icalendar-ruby
CALSCALE:GREGORIAN
METHOD:PUBLISH
BEGIN:VEVENT
DTSTAMP:20260425T203917Z
UID:139-658362@trinitymeadville.org
DTSTART:20260509T150000Z
DTEND:20260509T203000Z
CLASS:PUBLIC
CREATED:20260416T113819
DESCRIPTION:CampBlast!\nCamp Lutherlyn Open House event - Saturday\, May 9\
 , 2026\n\nThis FREE event is designed to give you a taste of everything th
 at Camp Lutherlyn has to offer.  It includes a free lunch in the dining h
 all\, and an opportunity to try a variety of camp activities.  No registr
 ation is needed - just show up with all your friends\, family\, neighbors\
 , and anyone else looking for a fun\, free day. More information on their 
 website found HERE\nVOLUNTEERS NEEDED:\nWe rely on 80-100 volunteers to ma
 ke CampBlast! possible. If you are interested in volunteering at CampBlast
 !\, please fill out this form.\n \n
LAST-MODIFIED:20260416T113819
LOCATION:
SUMMARY:CampBlast!
URL;VALUE=URI:https://trinitymeadville.org/events/campblast/2026-05-09
ATTACH;FILENAME=CampBlast-.jpg;FMTTYPE=image/jpeg:https://dq5pwpg1q8ru0.clo
 udfront.net/2026/04/16/15/38/18/91a42903-00dc-4eb7-924c-245f13f85925/CampB
 last-.jpg
END:VEVENT
END:VCALENDAR
