BEGIN:VCALENDAR
VERSION:2.0
PRODID:icalendar-ruby
CALSCALE:GREGORIAN
METHOD:PUBLISH
BEGIN:VEVENT
DTSTAMP:20260425T204430Z
UID:135-636285@trinitymeadville.org
DTSTART:20260516T133000Z
DTEND:20260516T160000Z
CLASS:PUBLIC
CREATED:20260408T115527
DESCRIPTION:It's time for our annual "sprucing up" of the church property.
   We will gather in the parking lot at 9:30AM on Saturday\, May 16\, 2026
 .  Our property committee will have a task list of jobs from small to big
 ger to choose from and there is always something for everyone to pitch in 
 and help!  Questions? Contact Bill Stoner.
LAST-MODIFIED:20260408T115527
LOCATION:Church Parking Lot
SUMMARY:Church Clean-Up Day
URL;VALUE=URI:https://trinitymeadville.org/events/church-clean-up-day--135/
 2026-05-16
ATTACH;FILENAME=Saturday-May-16-1.jpg;FMTTYPE=image/jpeg:https://dq5pwpg1q8
 ru0.cloudfront.net/2026/04/08/15/55/27/cf88d3cb-df61-40f2-8f38-caeeb7fd589
 b/Saturday-May-16-1.jpg
END:VEVENT
END:VCALENDAR
