BEGIN:VCALENDAR
VERSION:2.0
PRODID:icalendar-ruby
CALSCALE:GREGORIAN
METHOD:PUBLISH
BEGIN:VEVENT
DTSTAMP:20260419T194402Z
UID:6-666880@trinitymeadville.org
DTSTART:20260809T133000Z
DTEND:20260809T143000Z
CLASS:PUBLIC
CREATED:20260419T152341
DESCRIPTION:All are welcome to join us at our weekly worship service.  
LAST-MODIFIED:20260419T152341
LOCATION:Sanctuary
SUMMARY:Sunday Worship
URL;VALUE=URI:https://trinitymeadville.org/events/sunday-worship/2026-08-09
ATTACH;FILENAME=DSC_0598.JPG;FMTTYPE=image/jpeg:https://dq5pwpg1q8ru0.cloud
 front.net/2022/10/21/18/33/31/877c4fdd-37f3-42aa-b8f0-1b1e31416f0e/DSC_059
 8.JPG
END:VEVENT
END:VCALENDAR
