BEGIN:VCALENDAR
VERSION:2.0
PRODID:icalendar-ruby
CALSCALE:GREGORIAN
METHOD:PUBLISH
BEGIN:VEVENT
DTSTAMP:20260420T075632Z
UID:6-668276@trinitymeadville.org
DTSTART:20260927T133000Z
DTEND:20260927T143000Z
CLASS:PUBLIC
CREATED:20260420T022225
DESCRIPTION:All are welcome to join us at our weekly worship service.  
LAST-MODIFIED:20260420T022225
LOCATION:Sanctuary
SUMMARY:Sunday Worship
URL;VALUE=URI:https://trinitymeadville.org/events/sunday-worship/2026-09-27
ATTACH;FILENAME=DSC_0598.JPG;FMTTYPE=image/jpeg:https://dq5pwpg1q8ru0.cloud
 front.net/2022/10/21/18/33/31/877c4fdd-37f3-42aa-b8f0-1b1e31416f0e/DSC_059
 8.JPG
END:VEVENT
END:VCALENDAR
